BEGIN:VCALENDAR
VERSION:2.0
PRODID:-// - ECPv6.14.2//NONSGML v1.0//EN
CALSCALE:GREGORIAN
METHOD:PUBLISH
X-ORIGINAL-URL:https://e-tineret.md/en/
X-WR-CALDESC:Events for 
REFRESH-INTERVAL;VALUE=DURATION:PT1H
X-Robots-Tag:noindex
X-PUBLISHED-TTL:PT1H
BEGIN:VTIMEZONE
TZID:Europe/Moscow
BEGIN:STANDARD
TZOFFSETFROM:+0300
TZOFFSETTO:+0300
TZNAME:MSK
DTSTART:20260101T000000
END:STANDARD
END:VTIMEZONE
BEGIN:VEVENT
DTSTART;TZID=Europe/Moscow:20260401T160000
DTEND;TZID=Europe/Moscow:20260401T160000
DTSTAMP:20260423T161933
CREATED:20260331T172024Z
LAST-MODIFIED:20260331T172030Z
UID:42044-1775059200-1775059200@e-tineret.md
SUMMARY:English Club
DESCRIPTION:
URL:https://e-tineret.md/en/event/english-club-45/
LOCATION:Centrul de Tineret Botanica\, bulevardul Dacia 37/1\, municipiul Chișinău
ATTACH;FMTTYPE=image/png:https://e-tineret.md/wp-content/uploads/2024/11/4.png
ORGANIZER;CN="Centrul de Tineret Botanica":MAILTO:centru.botanica@gmail.com
END:VEVENT
BEGIN:VEVENT
DTSTART;TZID=Europe/Moscow:20260401T160000
DTEND;TZID=Europe/Moscow:20260401T160000
DTSTAMP:20260423T161933
CREATED:20260331T192105Z
LAST-MODIFIED:20260331T192110Z
UID:42488-1775059200-1775059200@e-tineret.md
SUMMARY:Public Speaking and Diction Club
DESCRIPTION:
URL:https://e-tineret.md/en/event/public-speaking-and-diction-club-9/
LOCATION:Centrul Municipal de Tineret Chișinău\, strada Mitropolit Varlaam 90\, municipiul Chișinău
ATTACH;FMTTYPE=image/jpeg:https://e-tineret.md/wp-content/uploads/2024/11/photo_2024-11-05_10-13-37.jpg
ORGANIZER;CN="Centrul Municipal de Tineret Chi%C8%99in%C4%83u":MAILTO:centru.chisinau@gmail.com
END:VEVENT
BEGIN:VEVENT
DTSTART;TZID=Europe/Moscow:20260401T160000
DTEND;TZID=Europe/Moscow:20260401T160000
DTSTAMP:20260423T161933
CREATED:20260331T192938Z
LAST-MODIFIED:20260331T192942Z
UID:42518-1775059200-1775059200@e-tineret.md
SUMMARY:Murder Mystery
DESCRIPTION:
URL:https://e-tineret.md/en/event/murder-mystery/
LOCATION:Centrul Municipal de Tineret Chișinău\, strada Mitropolit Varlaam 90\, municipiul Chișinău
ATTACH;FMTTYPE=image/jpeg:https://e-tineret.md/wp-content/uploads/2024/11/photo_2024-11-05_10-13-37.jpg
ORGANIZER;CN="Centrul Municipal de Tineret Chi%C8%99in%C4%83u":MAILTO:centru.chisinau@gmail.com
END:VEVENT
BEGIN:VEVENT
DTSTART;TZID=Europe/Moscow:20260401T163000
DTEND;TZID=Europe/Moscow:20260401T163000
DTSTAMP:20260423T161933
CREATED:20260331T081227Z
LAST-MODIFIED:20260331T081234Z
UID:41628-1775061000-1775061000@e-tineret.md
SUMMARY:STAND-UP competition
DESCRIPTION:
URL:https://e-tineret.md/en/event/stand-up-competition/
LOCATION:Centrul de Tineret Rîșcani\, strada Miron Costin 7B\, municipiul Chișinău
ATTACH;FMTTYPE=image/png:https://e-tineret.md/wp-content/uploads/2024/11/6.png
ORGANIZER;CN="Centrul de Tineret R%C3%AE%C8%99cani":MAILTO:centrul.riscani@gmail.com
END:VEVENT
BEGIN:VEVENT
DTSTART;TZID=Europe/Moscow:20260401T170000
DTEND;TZID=Europe/Moscow:20260401T170000
DTSTAMP:20260423T161933
CREATED:20260331T112922Z
LAST-MODIFIED:20260331T112927Z
UID:41812-1775062800-1775062800@e-tineret.md
SUMMARY:Culture and Traditions Club
DESCRIPTION:
URL:https://e-tineret.md/en/event/culture-and-traditions-club/
LOCATION:Centrul de Tineret Buiucani\, strada Ghidighici\, municipiul Chișinău\, Moldova\, Republic of
ATTACH;FMTTYPE=image/png:https://e-tineret.md/wp-content/uploads/2024/11/7.png
ORGANIZER;CN="Centrul de Tineret Buiucani":MAILTO:centru.buiucani@gmail.com
END:VEVENT
BEGIN:VEVENT
DTSTART;TZID=Europe/Moscow:20260401T170000
DTEND;TZID=Europe/Moscow:20260401T170000
DTSTAMP:20260423T161933
CREATED:20260331T180741Z
LAST-MODIFIED:20260331T180746Z
UID:42224-1775062800-1775062800@e-tineret.md
SUMMARY:Wushu Club
DESCRIPTION:
URL:https://e-tineret.md/en/event/wushu-club-32/
LOCATION:Centrul de Tineret Ciocana\, strada Petru Zadnipru 3/2\, municipiul Chișinău
ATTACH;FMTTYPE=image/png:https://e-tineret.md/wp-content/uploads/2024/11/5.png
ORGANIZER;CN="Centrul de Tineret Ciocana":MAILTO:centru.ciocana@gmail.com
END:VEVENT
BEGIN:VEVENT
DTSTART;TZID=Europe/Moscow:20260401T170000
DTEND;TZID=Europe/Moscow:20260401T170000
DTSTAMP:20260423T161933
CREATED:20260331T181151Z
LAST-MODIFIED:20260331T181155Z
UID:42254-1775062800-1775062800@e-tineret.md
SUMMARY:"Who am I?" activity
DESCRIPTION:
URL:https://e-tineret.md/en/event/who-am-i-activity-2/
LOCATION:Centrul de Tineret Ciocana\, strada Petru Zadnipru 3/2\, municipiul Chișinău
ATTACH;FMTTYPE=image/png:https://e-tineret.md/wp-content/uploads/2024/11/5.png
ORGANIZER;CN="Centrul de Tineret Ciocana":MAILTO:centru.ciocana@gmail.com
END:VEVENT
BEGIN:VEVENT
DTSTART;TZID=Europe/Moscow:20260401T170000
DTEND;TZID=Europe/Moscow:20260401T170000
DTSTAMP:20260423T161933
CREATED:20260331T193643Z
LAST-MODIFIED:20260331T193647Z
UID:42548-1775062800-1775062800@e-tineret.md
SUMMARY:Graphic Design Club
DESCRIPTION:
URL:https://e-tineret.md/en/event/graphic-design-club-16/
LOCATION:Centrul Municipal de Tineret Chișinău\, strada Mitropolit Varlaam 90\, municipiul Chișinău
ATTACH;FMTTYPE=image/jpeg:https://e-tineret.md/wp-content/uploads/2024/11/photo_2024-11-05_10-13-37.jpg
ORGANIZER;CN="Centrul Municipal de Tineret Chi%C8%99in%C4%83u":MAILTO:centru.chisinau@gmail.com
END:VEVENT
END:VCALENDAR