BEGIN:VCALENDAR
VERSION:2.0
PRODID:-// - ECPv6.14.2//NONSGML v1.0//EN
CALSCALE:GREGORIAN
METHOD:PUBLISH
X-ORIGINAL-URL:https://e-tineret.md
X-WR-CALDESC:Evenimente pentru 
REFRESH-INTERVAL;VALUE=DURATION:PT1H
X-Robots-Tag:noindex
X-PUBLISHED-TTL:PT1H
BEGIN:VTIMEZONE
TZID:Europe/Moscow
BEGIN:STANDARD
TZOFFSETFROM:+0300
TZOFFSETTO:+0300
TZNAME:MSK
DTSTART:20260101T000000
END:STANDARD
END:VTIMEZONE
BEGIN:VEVENT
DTSTART;TZID=Europe/Moscow:20260401T160000
DTEND;TZID=Europe/Moscow:20260401T160000
DTSTAMP:20260424T104239
CREATED:20260331T172024Z
LAST-MODIFIED:20260331T172032Z
UID:42042-1775059200-1775059200@e-tineret.md
SUMMARY:Clubul de engleză
DESCRIPTION:
URL:https://e-tineret.md/event/clubul-de-engleza-66/
LOCATION:Centrul de Tineret Botanica\, bulevardul Dacia 37/1\, municipiul Chișinău
ATTACH;FMTTYPE=image/png:https://e-tineret.md/wp-content/uploads/2024/11/4.png
ORGANIZER;CN="Centrul de Tineret Botanica":MAILTO:centru.botanica@gmail.com
END:VEVENT
BEGIN:VEVENT
DTSTART;TZID=Europe/Moscow:20260401T160000
DTEND;TZID=Europe/Moscow:20260401T160000
DTSTAMP:20260424T104239
CREATED:20260331T192105Z
LAST-MODIFIED:20260331T192111Z
UID:42486-1775059200-1775059200@e-tineret.md
SUMMARY:Clubul de Public Speaking și Dicție
DESCRIPTION:
URL:https://e-tineret.md/event/clubul-de-public-speaking-si-dictie-9/
LOCATION:Centrul Municipal de Tineret Chișinău\, strada Mitropolit Varlaam 90\, municipiul Chișinău
ATTACH;FMTTYPE=image/jpeg:https://e-tineret.md/wp-content/uploads/2024/11/photo_2024-11-05_10-13-37.jpg
ORGANIZER;CN="Centrul Municipal de Tineret Chi%C8%99in%C4%83u":MAILTO:centru.chisinau@gmail.com
END:VEVENT
BEGIN:VEVENT
DTSTART;TZID=Europe/Moscow:20260401T160000
DTEND;TZID=Europe/Moscow:20260401T160000
DTSTAMP:20260424T104239
CREATED:20260331T192938Z
LAST-MODIFIED:20260331T192944Z
UID:42516-1775059200-1775059200@e-tineret.md
SUMMARY:Murder Mystery
DESCRIPTION:
URL:https://e-tineret.md/event/murder-mystery/
LOCATION:Centrul Municipal de Tineret Chișinău\, strada Mitropolit Varlaam 90\, municipiul Chișinău
ATTACH;FMTTYPE=image/jpeg:https://e-tineret.md/wp-content/uploads/2024/11/photo_2024-11-05_10-13-37.jpg
ORGANIZER;CN="Centrul Municipal de Tineret Chi%C8%99in%C4%83u":MAILTO:centru.chisinau@gmail.com
END:VEVENT
BEGIN:VEVENT
DTSTART;TZID=Europe/Moscow:20260401T163000
DTEND;TZID=Europe/Moscow:20260401T163000
DTSTAMP:20260424T104239
CREATED:20260331T081227Z
LAST-MODIFIED:20260331T081237Z
UID:41626-1775061000-1775061000@e-tineret.md
SUMMARY:Concurs ”STAND-UP”
DESCRIPTION:
URL:https://e-tineret.md/event/concurs-stand-up/
LOCATION:Centrul de Tineret Rîșcani\, strada Miron Costin 7B\, municipiul Chișinău
ATTACH;FMTTYPE=image/png:https://e-tineret.md/wp-content/uploads/2024/11/6.png
ORGANIZER;CN="Centrul de Tineret R%C3%AE%C8%99cani":MAILTO:centrul.riscani@gmail.com
END:VEVENT
BEGIN:VEVENT
DTSTART;TZID=Europe/Moscow:20260401T170000
DTEND;TZID=Europe/Moscow:20260401T170000
DTSTAMP:20260424T104239
CREATED:20260331T112922Z
LAST-MODIFIED:20260331T112929Z
UID:41810-1775062800-1775062800@e-tineret.md
SUMMARY:Clubul Cultură și Tradiții
DESCRIPTION:
URL:https://e-tineret.md/event/clubul-cultura-si-traditii/
LOCATION:Centrul de Tineret Buiucani\, strada Ghidighici\, municipiul Chișinău\, Moldova\, Republic of
ATTACH;FMTTYPE=image/png:https://e-tineret.md/wp-content/uploads/2024/11/7.png
ORGANIZER;CN="Centrul de Tineret Buiucani":MAILTO:centru.buiucani@gmail.com
END:VEVENT
BEGIN:VEVENT
DTSTART;TZID=Europe/Moscow:20260401T170000
DTEND;TZID=Europe/Moscow:20260401T170000
DTSTAMP:20260424T104239
CREATED:20260331T180741Z
LAST-MODIFIED:20260331T180750Z
UID:42222-1775062800-1775062800@e-tineret.md
SUMMARY:Clubul de Wushu
DESCRIPTION:
URL:https://e-tineret.md/event/clubul-de-wushu-66/
LOCATION:Centrul de Tineret Ciocana\, strada Petru Zadnipru 3/2\, municipiul Chișinău
ATTACH;FMTTYPE=image/png:https://e-tineret.md/wp-content/uploads/2024/11/5.png
ORGANIZER;CN="Centrul de Tineret Ciocana":MAILTO:centru.ciocana@gmail.com
END:VEVENT
BEGIN:VEVENT
DTSTART;TZID=Europe/Moscow:20260401T170000
DTEND;TZID=Europe/Moscow:20260401T170000
DTSTAMP:20260424T104239
CREATED:20260331T181151Z
LAST-MODIFIED:20260331T181157Z
UID:42252-1775062800-1775062800@e-tineret.md
SUMMARY:Activitate „Cine sunt eu?”
DESCRIPTION:
URL:https://e-tineret.md/event/activitate-cine-sunt-eu-2/
LOCATION:Centrul de Tineret Ciocana\, strada Petru Zadnipru 3/2\, municipiul Chișinău
ATTACH;FMTTYPE=image/png:https://e-tineret.md/wp-content/uploads/2024/11/5.png
ORGANIZER;CN="Centrul de Tineret Ciocana":MAILTO:centru.ciocana@gmail.com
END:VEVENT
BEGIN:VEVENT
DTSTART;TZID=Europe/Moscow:20260401T170000
DTEND;TZID=Europe/Moscow:20260401T170000
DTSTAMP:20260424T104239
CREATED:20260331T193643Z
LAST-MODIFIED:20260331T193649Z
UID:42546-1775062800-1775062800@e-tineret.md
SUMMARY:Clubul de Design Grafic
DESCRIPTION:
URL:https://e-tineret.md/event/clubul-de-design-grafic-19/
LOCATION:Centrul Municipal de Tineret Chișinău\, strada Mitropolit Varlaam 90\, municipiul Chișinău
ATTACH;FMTTYPE=image/jpeg:https://e-tineret.md/wp-content/uploads/2024/11/photo_2024-11-05_10-13-37.jpg
ORGANIZER;CN="Centrul Municipal de Tineret Chi%C8%99in%C4%83u":MAILTO:centru.chisinau@gmail.com
END:VEVENT
END:VCALENDAR