BEGIN:VCALENDAR
VERSION:2.0
PRODID:-// - ECPv6.14.2//NONSGML v1.0//EN
CALSCALE:GREGORIAN
METHOD:PUBLISH
X-ORIGINAL-URL:https://e-tineret.md
X-WR-CALDESC:Evenimente pentru 
REFRESH-INTERVAL;VALUE=DURATION:PT1H
X-Robots-Tag:noindex
X-PUBLISHED-TTL:PT1H
BEGIN:VTIMEZONE
TZID:Europe/Moscow
BEGIN:STANDARD
TZOFFSETFROM:+0300
TZOFFSETTO:+0300
TZNAME:MSK
DTSTART:20260101T000000
END:STANDARD
END:VTIMEZONE
BEGIN:VEVENT
DTSTART;TZID=Europe/Moscow:20260422T160000
DTEND;TZID=Europe/Moscow:20260422T160000
DTSTAMP:20260422T032356
CREATED:20260331T082213Z
LAST-MODIFIED:20260331T082219Z
UID:41675-1776873600-1776873600@e-tineret.md
SUMMARY:Clubul de matematică
DESCRIPTION:
URL:https://e-tineret.md/event/clubul-de-matematica-24/
LOCATION:Centrul de Tineret Rîșcani\, strada Miron Costin 7B\, municipiul Chișinău
ATTACH;FMTTYPE=image/png:https://e-tineret.md/wp-content/uploads/2024/11/6.png
ORGANIZER;CN="Centrul de Tineret R%C3%AE%C8%99cani":MAILTO:centrul.riscani@gmail.com
END:VEVENT
BEGIN:VEVENT
DTSTART;TZID=Europe/Moscow:20260422T160000
DTEND;TZID=Europe/Moscow:20260422T160000
DTSTAMP:20260422T032356
CREATED:20260331T173043Z
LAST-MODIFIED:20260331T173103Z
UID:42060-1776873600-1776873600@e-tineret.md
SUMMARY:Clubul de engleză
DESCRIPTION:
URL:https://e-tineret.md/event/clubul-de-engleza-71/
LOCATION:Centrul de Tineret Botanica\, bulevardul Dacia 37/1\, municipiul Chișinău
ATTACH;FMTTYPE=image/png:https://e-tineret.md/wp-content/uploads/2024/11/4.png
ORGANIZER;CN="Centrul de Tineret Botanica":MAILTO:centru.botanica@gmail.com
END:VEVENT
BEGIN:VEVENT
DTSTART;TZID=Europe/Moscow:20260422T160000
DTEND;TZID=Europe/Moscow:20260422T160000
DTSTAMP:20260422T032356
CREATED:20260331T192437Z
LAST-MODIFIED:20260331T192444Z
UID:42504-1776873600-1776873600@e-tineret.md
SUMMARY:Clubul de Public Speaking și Dicție
DESCRIPTION:
URL:https://e-tineret.md/event/clubul-de-public-speaking-si-dictie-12/
LOCATION:Centrul Municipal de Tineret Chișinău\, strada Mitropolit Varlaam 90\, municipiul Chișinău
ATTACH;FMTTYPE=image/jpeg:https://e-tineret.md/wp-content/uploads/2024/11/photo_2024-11-05_10-13-37.jpg
ORGANIZER;CN="Centrul Municipal de Tineret Chi%C8%99in%C4%83u":MAILTO:centru.chisinau@gmail.com
END:VEVENT
BEGIN:VEVENT
DTSTART;TZID=Europe/Moscow:20260422T160000
DTEND;TZID=Europe/Moscow:20260422T160000
DTSTAMP:20260422T032356
CREATED:20260331T193154Z
LAST-MODIFIED:20260331T193210Z
UID:42534-1776873600-1776873600@e-tineret.md
SUMMARY:Murder Mystery
DESCRIPTION:
URL:https://e-tineret.md/event/murder-mystery-4/
LOCATION:Centrul Municipal de Tineret Chișinău\, strada Mitropolit Varlaam 90\, municipiul Chișinău
ATTACH;FMTTYPE=image/jpeg:https://e-tineret.md/wp-content/uploads/2024/11/photo_2024-11-05_10-13-37.jpg
ORGANIZER;CN="Centrul Municipal de Tineret Chi%C8%99in%C4%83u":MAILTO:centru.chisinau@gmail.com
END:VEVENT
BEGIN:VEVENT
DTSTART;TZID=Europe/Moscow:20260422T170000
DTEND;TZID=Europe/Moscow:20260422T170000
DTSTAMP:20260422T032356
CREATED:20260331T113133Z
LAST-MODIFIED:20260331T113432Z
UID:41828-1776877200-1776877200@e-tineret.md
SUMMARY:Clubul Cultură și Tradiții
DESCRIPTION:
URL:https://e-tineret.md/event/clubul-cultura-si-traditii-4/
LOCATION:Centrul de Tineret Buiucani\, strada Ghidighici\, municipiul Chișinău\, Moldova\, Republic of
ATTACH;FMTTYPE=image/png:https://e-tineret.md/wp-content/uploads/2024/11/7.png
ORGANIZER;CN="Centrul de Tineret Buiucani":MAILTO:centru.buiucani@gmail.com
END:VEVENT
BEGIN:VEVENT
DTSTART;TZID=Europe/Moscow:20260422T170000
DTEND;TZID=Europe/Moscow:20260422T170000
DTSTAMP:20260422T032356
CREATED:20260331T113706Z
LAST-MODIFIED:20260331T113713Z
UID:41852-1776877200-1776877200@e-tineret.md
SUMMARY:Dezvoltare Personală
DESCRIPTION:
URL:https://e-tineret.md/event/dezvoltare-personala-6/
LOCATION:Centrul de Tineret Buiucani\, strada Ghidighici\, municipiul Chișinău\, Moldova\, Republic of
ATTACH;FMTTYPE=image/png:https://e-tineret.md/wp-content/uploads/2024/11/7.png
ORGANIZER;CN="Centrul de Tineret Buiucani":MAILTO:centru.buiucani@gmail.com
END:VEVENT
BEGIN:VEVENT
DTSTART;TZID=Europe/Moscow:20260422T170000
DTEND;TZID=Europe/Moscow:20260422T170000
DTSTAMP:20260422T032356
CREATED:20260331T180956Z
LAST-MODIFIED:20260331T181003Z
UID:42240-1776877200-1776877200@e-tineret.md
SUMMARY:Clubul de Wushu
DESCRIPTION:
URL:https://e-tineret.md/event/clubul-de-wushu-69/
LOCATION:Centrul de Tineret Ciocana\, strada Petru Zadnipru 3/2\, municipiul Chișinău
ATTACH;FMTTYPE=image/png:https://e-tineret.md/wp-content/uploads/2024/11/5.png
ORGANIZER;CN="Centrul de Tineret Ciocana":MAILTO:centru.ciocana@gmail.com
END:VEVENT
BEGIN:VEVENT
DTSTART;TZID=Europe/Moscow:20260422T170000
DTEND;TZID=Europe/Moscow:20260422T170000
DTSTAMP:20260422T032356
CREATED:20260331T194909Z
LAST-MODIFIED:20260331T194915Z
UID:42564-1776877200-1776877200@e-tineret.md
SUMMARY:Clubul de Dezbateri
DESCRIPTION:
URL:https://e-tineret.md/event/clubul-de-dezbateri-55/
LOCATION:Centrul Municipal de Tineret Chișinău\, strada Mitropolit Varlaam 90\, municipiul Chișinău
ATTACH;FMTTYPE=image/jpeg:https://e-tineret.md/wp-content/uploads/2024/11/photo_2024-11-05_10-13-37.jpg
ORGANIZER;CN="Centrul Municipal de Tineret Chi%C8%99in%C4%83u":MAILTO:centru.chisinau@gmail.com
END:VEVENT
BEGIN:VEVENT
DTSTART;TZID=Europe/Moscow:20260422T180000
DTEND;TZID=Europe/Moscow:20260422T180000
DTSTAMP:20260422T032356
CREATED:20260331T082538Z
LAST-MODIFIED:20260331T082545Z
UID:41693-1776880800-1776880800@e-tineret.md
SUMMARY:Activitatea "Kill House"
DESCRIPTION:
URL:https://e-tineret.md/event/activitatea-kill-house-2/
LOCATION:Centrul de Tineret Rîșcani\, strada Miron Costin 7B\, municipiul Chișinău
ATTACH;FMTTYPE=image/png:https://e-tineret.md/wp-content/uploads/2024/11/6.png
ORGANIZER;CN="Centrul de Tineret R%C3%AE%C8%99cani":MAILTO:centrul.riscani@gmail.com
END:VEVENT
END:VCALENDAR