BEGIN:VCALENDAR
VERSION:2.0
PRODID:-// - ECPv6.14.2//NONSGML v1.0//EN
CALSCALE:GREGORIAN
METHOD:PUBLISH
X-ORIGINAL-URL:https://e-tineret.md/ru/
X-WR-CALDESC:Мероприятия для 
REFRESH-INTERVAL;VALUE=DURATION:PT1H
X-Robots-Tag:noindex
X-PUBLISHED-TTL:PT1H
BEGIN:VTIMEZONE
TZID:Europe/Moscow
BEGIN:STANDARD
TZOFFSETFROM:+0300
TZOFFSETTO:+0300
TZNAME:MSK
DTSTART:20260101T000000
END:STANDARD
END:VTIMEZONE
BEGIN:VEVENT
DTSTART;TZID=Europe/Moscow:20260422T160000
DTEND;TZID=Europe/Moscow:20260422T160000
DTSTAMP:20260422T014023
CREATED:20260331T082213Z
LAST-MODIFIED:20260331T082217Z
UID:41679-1776873600-1776873600@e-tineret.md
SUMMARY:Математический клуб
DESCRIPTION:
URL:https://e-tineret.md/ru/event/%d0%bc%d0%b0%d1%82%d0%b5%d0%bc%d0%b0%d1%82%d0%b8%d1%87%d0%b5%d1%81%d0%ba%d0%b8%d0%b9-%d0%ba%d0%bb%d1%83%d0%b1-20/
LOCATION:Centrul de Tineret Rîșcani\, strada Miron Costin 7B\, municipiul Chișinău
ATTACH;FMTTYPE=image/png:https://e-tineret.md/wp-content/uploads/2024/11/6.png
ORGANIZER;CN="Centrul de Tineret R%C3%AE%C8%99cani":MAILTO:centrul.riscani@gmail.com
END:VEVENT
BEGIN:VEVENT
DTSTART;TZID=Europe/Moscow:20260422T160000
DTEND;TZID=Europe/Moscow:20260422T160000
DTSTAMP:20260422T014023
CREATED:20260331T173043Z
LAST-MODIFIED:20260331T173049Z
UID:42064-1776873600-1776873600@e-tineret.md
SUMMARY:Английский клуб
DESCRIPTION:
URL:https://e-tineret.md/ru/event/%d0%b0%d0%bd%d0%b3%d0%bb%d0%b8%d0%b9%d1%81%d0%ba%d0%b8%d0%b9-%d0%ba%d0%bb%d1%83%d0%b1-32/
LOCATION:Centrul de Tineret Botanica\, bulevardul Dacia 37/1\, municipiul Chișinău
ATTACH;FMTTYPE=image/png:https://e-tineret.md/wp-content/uploads/2024/11/4.png
ORGANIZER;CN="Centrul de Tineret Botanica":MAILTO:centru.botanica@gmail.com
END:VEVENT
BEGIN:VEVENT
DTSTART;TZID=Europe/Moscow:20260422T160000
DTEND;TZID=Europe/Moscow:20260422T160000
DTSTAMP:20260422T014023
CREATED:20260331T192437Z
LAST-MODIFIED:20260331T192442Z
UID:42508-1776873600-1776873600@e-tineret.md
SUMMARY:Клуб ораторского искусства и дикции
DESCRIPTION:
URL:https://e-tineret.md/ru/event/%d0%ba%d0%bb%d1%83%d0%b1-%d0%be%d1%80%d0%b0%d1%82%d0%be%d1%80%d1%81%d0%ba%d0%be%d0%b3%d0%be-%d0%b8%d1%81%d0%ba%d1%83%d1%81%d1%81%d1%82%d0%b2%d0%b0-%d0%b8-%d0%b4%d0%b8%d0%ba%d1%86%d0%b8%d0%b8-12/
LOCATION:Centrul Municipal de Tineret Chișinău\, strada Mitropolit Varlaam 90\, municipiul Chișinău
ATTACH;FMTTYPE=image/jpeg:https://e-tineret.md/wp-content/uploads/2024/11/photo_2024-11-05_10-13-37.jpg
ORGANIZER;CN="Centrul Municipal de Tineret Chi%C8%99in%C4%83u":MAILTO:centru.chisinau@gmail.com
END:VEVENT
BEGIN:VEVENT
DTSTART;TZID=Europe/Moscow:20260422T160000
DTEND;TZID=Europe/Moscow:20260422T160000
DTSTAMP:20260422T014023
CREATED:20260331T193154Z
LAST-MODIFIED:20260331T193209Z
UID:42538-1776873600-1776873600@e-tineret.md
SUMMARY:Тайна убийства
DESCRIPTION:
URL:https://e-tineret.md/ru/event/%d1%82%d0%b0%d0%b9%d0%bd%d0%b0-%d1%83%d0%b1%d0%b8%d0%b9%d1%81%d1%82%d0%b2%d0%b0-4/
LOCATION:Centrul Municipal de Tineret Chișinău\, strada Mitropolit Varlaam 90\, municipiul Chișinău
ATTACH;FMTTYPE=image/jpeg:https://e-tineret.md/wp-content/uploads/2024/11/photo_2024-11-05_10-13-37.jpg
ORGANIZER;CN="Centrul Municipal de Tineret Chi%C8%99in%C4%83u":MAILTO:centru.chisinau@gmail.com
END:VEVENT
BEGIN:VEVENT
DTSTART;TZID=Europe/Moscow:20260422T170000
DTEND;TZID=Europe/Moscow:20260422T170000
DTSTAMP:20260422T014023
CREATED:20260331T113133Z
LAST-MODIFIED:20260331T113430Z
UID:41832-1776877200-1776877200@e-tineret.md
SUMMARY:Клуб культуры и традиций
DESCRIPTION:
URL:https://e-tineret.md/ru/event/%d0%ba%d0%bb%d1%83%d0%b1-%d0%ba%d1%83%d0%bb%d1%8c%d1%82%d1%83%d1%80%d1%8b-%d0%b8-%d1%82%d1%80%d0%b0%d0%b4%d0%b8%d1%86%d0%b8%d0%b9-4/
LOCATION:Centrul de Tineret Buiucani\, strada Ghidighici\, municipiul Chișinău\, Moldova\, Republic of
ATTACH;FMTTYPE=image/png:https://e-tineret.md/wp-content/uploads/2024/11/7.png
ORGANIZER;CN="Centrul de Tineret Buiucani":MAILTO:centru.buiucani@gmail.com
END:VEVENT
BEGIN:VEVENT
DTSTART;TZID=Europe/Moscow:20260422T170000
DTEND;TZID=Europe/Moscow:20260422T170000
DTSTAMP:20260422T014023
CREATED:20260331T113706Z
LAST-MODIFIED:20260331T113711Z
UID:41856-1776877200-1776877200@e-tineret.md
SUMMARY:Развитие личности
DESCRIPTION:
URL:https://e-tineret.md/ru/event/%d1%80%d0%b0%d0%b7%d0%b2%d0%b8%d1%82%d0%b8%d0%b5-%d0%bb%d0%b8%d1%87%d0%bd%d0%be%d1%81%d1%82%d0%b8-3/
LOCATION:Centrul de Tineret Buiucani\, strada Ghidighici\, municipiul Chișinău\, Moldova\, Republic of
ATTACH;FMTTYPE=image/png:https://e-tineret.md/wp-content/uploads/2024/11/7.png
ORGANIZER;CN="Centrul de Tineret Buiucani":MAILTO:centru.buiucani@gmail.com
END:VEVENT
BEGIN:VEVENT
DTSTART;TZID=Europe/Moscow:20260422T170000
DTEND;TZID=Europe/Moscow:20260422T170000
DTSTAMP:20260422T014023
CREATED:20260331T180956Z
LAST-MODIFIED:20260331T181000Z
UID:42244-1776877200-1776877200@e-tineret.md
SUMMARY:Клуб ушу
DESCRIPTION:
URL:https://e-tineret.md/ru/event/%d0%ba%d0%bb%d1%83%d0%b1-%d1%83%d1%88%d1%83-35/
LOCATION:Centrul de Tineret Ciocana\, strada Petru Zadnipru 3/2\, municipiul Chișinău
ATTACH;FMTTYPE=image/png:https://e-tineret.md/wp-content/uploads/2024/11/5.png
ORGANIZER;CN="Centrul de Tineret Ciocana":MAILTO:centru.ciocana@gmail.com
END:VEVENT
BEGIN:VEVENT
DTSTART;TZID=Europe/Moscow:20260422T170000
DTEND;TZID=Europe/Moscow:20260422T170000
DTSTAMP:20260422T014023
CREATED:20260331T194909Z
LAST-MODIFIED:20260331T194914Z
UID:42568-1776877200-1776877200@e-tineret.md
SUMMARY:Клуб дебатов
DESCRIPTION:
URL:https://e-tineret.md/ru/event/%d0%ba%d0%bb%d1%83%d0%b1-%d0%b4%d0%b5%d0%b1%d0%b0%d1%82%d0%be%d0%b2-39/
LOCATION:Centrul Municipal de Tineret Chișinău\, strada Mitropolit Varlaam 90\, municipiul Chișinău
ATTACH;FMTTYPE=image/jpeg:https://e-tineret.md/wp-content/uploads/2024/11/photo_2024-11-05_10-13-37.jpg
ORGANIZER;CN="Centrul Municipal de Tineret Chi%C8%99in%C4%83u":MAILTO:centru.chisinau@gmail.com
END:VEVENT
BEGIN:VEVENT
DTSTART;TZID=Europe/Moscow:20260422T180000
DTEND;TZID=Europe/Moscow:20260422T180000
DTSTAMP:20260422T014023
CREATED:20260331T082538Z
LAST-MODIFIED:20260331T082544Z
UID:41697-1776880800-1776880800@e-tineret.md
SUMMARY:„Убить дом”
DESCRIPTION:
URL:https://e-tineret.md/ru/event/%d1%83%d0%b1%d0%b8%d1%82%d1%8c-%d0%b4%d0%be%d0%bc-2/
LOCATION:Centrul de Tineret Rîșcani\, strada Miron Costin 7B\, municipiul Chișinău
ATTACH;FMTTYPE=image/png:https://e-tineret.md/wp-content/uploads/2024/11/6.png
ORGANIZER;CN="Centrul de Tineret R%C3%AE%C8%99cani":MAILTO:centrul.riscani@gmail.com
END:VEVENT
END:VCALENDAR