BEGIN:VCALENDAR
VERSION:2.0
PRODID:-// - ECPv6.14.2//NONSGML v1.0//EN
CALSCALE:GREGORIAN
METHOD:PUBLISH
X-ORIGINAL-URL:https://e-tineret.md/ru/
X-WR-CALDESC:Мероприятия для 
REFRESH-INTERVAL;VALUE=DURATION:PT1H
X-Robots-Tag:noindex
X-PUBLISHED-TTL:PT1H
BEGIN:VTIMEZONE
TZID:Europe/Moscow
BEGIN:STANDARD
TZOFFSETFROM:+0300
TZOFFSETTO:+0300
TZNAME:MSK
DTSTART:20260101T000000
END:STANDARD
END:VTIMEZONE
BEGIN:VEVENT
DTSTART;TZID=Europe/Moscow:20260423T160000
DTEND;TZID=Europe/Moscow:20260423T160000
DTSTAMP:20260423T022059
CREATED:20260331T082720Z
LAST-MODIFIED:20260331T082727Z
UID:41709-1776960000-1776960000@e-tineret.md
SUMMARY:Исторический клуб
DESCRIPTION:
URL:https://e-tineret.md/ru/event/%d0%b8%d1%81%d1%82%d0%be%d1%80%d0%b8%d1%87%d0%b5%d1%81%d0%ba%d0%b8%d0%b9-%d0%ba%d0%bb%d1%83%d0%b1-2/
LOCATION:Centrul de Tineret Rîșcani\, strada Miron Costin 7B\, municipiul Chișinău
ATTACH;FMTTYPE=image/png:https://e-tineret.md/wp-content/uploads/2024/11/6.png
ORGANIZER;CN="Centrul de Tineret R%C3%AE%C8%99cani":MAILTO:centrul.riscani@gmail.com
END:VEVENT
BEGIN:VEVENT
DTSTART;TZID=Europe/Moscow:20260423T160000
DTEND;TZID=Europe/Moscow:20260423T160000
DTSTAMP:20260423T022059
CREATED:20260331T114043Z
LAST-MODIFIED:20260331T114048Z
UID:41880-1776960000-1776960000@e-tineret.md
SUMMARY:Клуб для девочек
DESCRIPTION:
URL:https://e-tineret.md/ru/event/%d0%ba%d0%bb%d1%83%d0%b1-%d0%b4%d0%bb%d1%8f-%d0%b4%d0%b5%d0%b2%d0%be%d1%87%d0%b5%d0%ba-51/
LOCATION:Centrul de Tineret Buiucani\, strada Ghidighici\, municipiul Chișinău\, Moldova\, Republic of
ATTACH;FMTTYPE=image/png:https://e-tineret.md/wp-content/uploads/2024/11/7.png
ORGANIZER;CN="Centrul de Tineret Buiucani":MAILTO:centru.buiucani@gmail.com
END:VEVENT
BEGIN:VEVENT
DTSTART;TZID=Europe/Moscow:20260423T160000
DTEND;TZID=Europe/Moscow:20260423T160000
DTSTAMP:20260423T022059
CREATED:20260331T200518Z
LAST-MODIFIED:20260331T200525Z
UID:42640-1776960000-1776960000@e-tineret.md
SUMMARY:Клуб искусств
DESCRIPTION:
URL:https://e-tineret.md/ru/event/%d0%ba%d0%bb%d1%83%d0%b1-%d0%b8%d1%81%d0%ba%d1%83%d1%81%d1%81%d1%82%d0%b2-19/
LOCATION:Centrul Municipal de Tineret Chișinău\, strada Mitropolit Varlaam 90\, municipiul Chișinău
ATTACH;FMTTYPE=image/jpeg:https://e-tineret.md/wp-content/uploads/2024/11/photo_2024-11-05_10-13-37.jpg
ORGANIZER;CN="Centrul Municipal de Tineret Chi%C8%99in%C4%83u":MAILTO:centru.chisinau@gmail.com
END:VEVENT
BEGIN:VEVENT
DTSTART;TZID=Europe/Moscow:20260423T163000
DTEND;TZID=Europe/Moscow:20260423T163000
DTSTAMP:20260423T022059
CREATED:20260331T201351Z
LAST-MODIFIED:20260331T201357Z
UID:42676-1776961800-1776961800@e-tineret.md
SUMMARY:Клуб для девочек
DESCRIPTION:
URL:https://e-tineret.md/ru/event/%d0%ba%d0%bb%d1%83%d0%b1-%d0%b4%d0%bb%d1%8f-%d0%b4%d0%b5%d0%b2%d0%be%d1%87%d0%b5%d0%ba-61/
LOCATION:Centrul Municipal de Tineret Chișinău\, strada Mitropolit Varlaam 90\, municipiul Chișinău
ATTACH;FMTTYPE=image/jpeg:https://e-tineret.md/wp-content/uploads/2024/11/photo_2024-11-05_10-13-37.jpg
ORGANIZER;CN="Centrul Municipal de Tineret Chi%C8%99in%C4%83u":MAILTO:centru.chisinau@gmail.com
END:VEVENT
BEGIN:VEVENT
DTSTART;TZID=Europe/Moscow:20260423T170000
DTEND;TZID=Europe/Moscow:20260423T170000
DTSTAMP:20260423T022059
CREATED:20260331T174016Z
LAST-MODIFIED:20260331T174023Z
UID:42094-1776963600-1776963600@e-tineret.md
SUMMARY:Клуб здоровья и питания
DESCRIPTION:
URL:https://e-tineret.md/ru/event/%d0%ba%d0%bb%d1%83%d0%b1-%d0%b7%d0%b4%d0%be%d1%80%d0%be%d0%b2%d1%8c%d1%8f-%d0%b8-%d0%bf%d0%b8%d1%82%d0%b0%d0%bd%d0%b8%d1%8f-20/
LOCATION:Centrul de Tineret Botanica\, bulevardul Dacia 37/1\, municipiul Chișinău
ATTACH;FMTTYPE=image/png:https://e-tineret.md/wp-content/uploads/2024/11/4.png
ORGANIZER;CN="Centrul de Tineret Botanica":MAILTO:centru.botanica@gmail.com
END:VEVENT
BEGIN:VEVENT
DTSTART;TZID=Europe/Moscow:20260423T170000
DTEND;TZID=Europe/Moscow:20260423T170000
DTSTAMP:20260423T022059
CREATED:20260331T182129Z
LAST-MODIFIED:20260331T182134Z
UID:42310-1776963600-1776963600@e-tineret.md
SUMMARY:Занятия по личному развитию "Постановка личных финансовых целей" с Фондом ОК (14-17 лет)
DESCRIPTION:
URL:https://e-tineret.md/ru/event/%d0%b7%d0%b0%d0%bd%d1%8f%d1%82%d0%b8%d1%8f-%d0%bf%d0%be-%d0%bb%d0%b8%d1%87%d0%bd%d0%be%d0%bc%d1%83-%d1%80%d0%b0%d0%b7%d0%b2%d0%b8%d1%82%d0%b8%d1%8e-%d0%bf%d0%be%d1%81%d1%82%d0%b0%d0%bd%d0%be%d0%b2/
LOCATION:Centrul de Tineret Ciocana\, strada Petru Zadnipru 3/2\, municipiul Chișinău
ATTACH;FMTTYPE=image/png:https://e-tineret.md/wp-content/uploads/2024/11/5.png
ORGANIZER;CN="Centrul de Tineret Ciocana":MAILTO:centru.ciocana@gmail.com
END:VEVENT
BEGIN:VEVENT
DTSTART;TZID=Europe/Moscow:20260423T170000
DTEND;TZID=Europe/Moscow:20260423T170000
DTSTAMP:20260423T022059
CREATED:20260331T202303Z
LAST-MODIFIED:20260331T202309Z
UID:42712-1776963600-1776963600@e-tineret.md
SUMMARY:Мафия
DESCRIPTION:
URL:https://e-tineret.md/ru/event/%d0%bc%d0%b0%d1%84%d0%b8%d1%8f-9/
LOCATION:Centrul Municipal de Tineret Chișinău\, strada Mitropolit Varlaam 90\, municipiul Chișinău
ATTACH;FMTTYPE=image/jpeg:https://e-tineret.md/wp-content/uploads/2024/11/photo_2024-11-05_10-13-37.jpg
ORGANIZER;CN="Centrul Municipal de Tineret Chi%C8%99in%C4%83u":MAILTO:centru.chisinau@gmail.com
END:VEVENT
BEGIN:VEVENT
DTSTART;TZID=Europe/Moscow:20260423T180000
DTEND;TZID=Europe/Moscow:20260423T180000
DTSTAMP:20260423T022059
CREATED:20260331T114539Z
LAST-MODIFIED:20260331T114544Z
UID:41910-1776967200-1776967200@e-tineret.md
SUMMARY:Химический клуб
DESCRIPTION:
URL:https://e-tineret.md/ru/event/%d1%85%d0%b8%d0%bc%d0%b8%d1%87%d0%b5%d1%81%d0%ba%d0%b8%d0%b9-%d0%ba%d0%bb%d1%83%d0%b1-15/
LOCATION:Centrul de Tineret Buiucani\, strada Ghidighici\, municipiul Chișinău\, Moldova\, Republic of
ATTACH;FMTTYPE=image/png:https://e-tineret.md/wp-content/uploads/2024/11/7.png
ORGANIZER;CN="Centrul de Tineret Buiucani":MAILTO:centru.buiucani@gmail.com
END:VEVENT
END:VCALENDAR