BEGIN:VCALENDAR
VERSION:2.0
PRODID:-// - ECPv6.14.2//NONSGML v1.0//EN
CALSCALE:GREGORIAN
METHOD:PUBLISH
X-ORIGINAL-URL:https://e-tineret.md/ru/
X-WR-CALDESC:Мероприятия для 
REFRESH-INTERVAL;VALUE=DURATION:PT1H
X-Robots-Tag:noindex
X-PUBLISHED-TTL:PT1H
BEGIN:VTIMEZONE
TZID:Europe/Moscow
BEGIN:STANDARD
TZOFFSETFROM:+0300
TZOFFSETTO:+0300
TZNAME:MSK
DTSTART:20260101T000000
END:STANDARD
END:VTIMEZONE
BEGIN:VEVENT
DTSTART;TZID=Europe/Moscow:20260424T160000
DTEND;TZID=Europe/Moscow:20260424T160000
DTSTAMP:20260424T012907
CREATED:20260331T083221Z
LAST-MODIFIED:20260331T083228Z
UID:41736-1777046400-1777046400@e-tineret.md
SUMMARY:Фото клуб
DESCRIPTION:
URL:https://e-tineret.md/ru/event/%d1%84%d0%be%d1%82%d0%be-%d0%ba%d0%bb%d1%83%d0%b1-3/
LOCATION:Centrul de Tineret Rîșcani\, strada Miron Costin 7B\, municipiul Chișinău
ATTACH;FMTTYPE=image/png:https://e-tineret.md/wp-content/uploads/2024/11/6.png
ORGANIZER;CN="Centrul de Tineret R%C3%AE%C8%99cani":MAILTO:centrul.riscani@gmail.com
END:VEVENT
BEGIN:VEVENT
DTSTART;TZID=Europe/Moscow:20260424T160000
DTEND;TZID=Europe/Moscow:20260424T160000
DTSTAMP:20260424T012907
CREATED:20260331T122129Z
LAST-MODIFIED:20260331T122134Z
UID:41934-1777046400-1777046400@e-tineret.md
SUMMARY:Арт-клуб
DESCRIPTION:
URL:https://e-tineret.md/ru/event/%d0%b0%d1%80%d1%82-%d0%ba%d0%bb%d1%83%d0%b1-19/
LOCATION:Centrul de Tineret Buiucani\, strada Ghidighici\, municipiul Chișinău\, Moldova\, Republic of
ATTACH;FMTTYPE=image/png:https://e-tineret.md/wp-content/uploads/2024/11/7.png
ORGANIZER;CN="Centrul de Tineret Buiucani":MAILTO:centru.buiucani@gmail.com
END:VEVENT
BEGIN:VEVENT
DTSTART;TZID=Europe/Moscow:20260424T160000
DTEND;TZID=Europe/Moscow:20260424T160000
DTSTAMP:20260424T012907
CREATED:20260331T174556Z
LAST-MODIFIED:20260331T174602Z
UID:42124-1777046400-1777046400@e-tineret.md
SUMMARY:Клуб робототехники
DESCRIPTION:
URL:https://e-tineret.md/ru/event/%d0%ba%d0%bb%d1%83%d0%b1-%d1%80%d0%be%d0%b1%d0%be%d1%82%d0%be%d1%82%d0%b5%d1%85%d0%bd%d0%b8%d0%ba%d0%b8-26/
LOCATION:Centrul de Tineret Botanica\, bulevardul Dacia 37/1\, municipiul Chișinău
ATTACH;FMTTYPE=image/png:https://e-tineret.md/wp-content/uploads/2024/11/4.png
ORGANIZER;CN="Centrul de Tineret Botanica":MAILTO:centru.botanica@gmail.com
END:VEVENT
BEGIN:VEVENT
DTSTART;TZID=Europe/Moscow:20260424T160000
DTEND;TZID=Europe/Moscow:20260424T160000
DTSTAMP:20260424T012907
CREATED:20260331T201828Z
LAST-MODIFIED:20260331T201833Z
UID:42688-1777046400-1777046400@e-tineret.md
SUMMARY:Кулинарный клуб
DESCRIPTION:
URL:https://e-tineret.md/ru/event/%d0%ba%d1%83%d0%bb%d0%b8%d0%bd%d0%b0%d1%80%d0%bd%d1%8b%d0%b9-%d0%ba%d0%bb%d1%83%d0%b1-11/
LOCATION:Centrul Municipal de Tineret Chișinău\, strada Mitropolit Varlaam 90\, municipiul Chișinău
ATTACH;FMTTYPE=image/jpeg:https://e-tineret.md/wp-content/uploads/2024/11/photo_2024-11-05_10-13-37.jpg
ORGANIZER;CN="Centrul Municipal de Tineret Chi%C8%99in%C4%83u":MAILTO:centru.chisinau@gmail.com
END:VEVENT
BEGIN:VEVENT
DTSTART;TZID=Europe/Moscow:20260424T160000
DTEND;TZID=Europe/Moscow:20260424T160000
DTSTAMP:20260424T012907
CREATED:20260331T203046Z
LAST-MODIFIED:20260331T203050Z
UID:42754-1777046400-1777046400@e-tineret.md
SUMMARY:День виртуальной реальности
DESCRIPTION:
URL:https://e-tineret.md/ru/event/%d0%b4%d0%b5%d0%bd%d1%8c-%d0%b2%d0%b8%d1%80%d1%82%d1%83%d0%b0%d0%bb%d1%8c%d0%bd%d0%be%d0%b9-%d1%80%d0%b5%d0%b0%d0%bb%d1%8c%d0%bd%d0%be%d1%81%d1%82%d0%b8-15/
LOCATION:Centrul Municipal de Tineret Chișinău\, strada Mitropolit Varlaam 90\, municipiul Chișinău
ATTACH;FMTTYPE=image/jpeg:https://e-tineret.md/wp-content/uploads/2024/11/photo_2024-11-05_10-13-37.jpg
ORGANIZER;CN="Centrul Municipal de Tineret Chi%C8%99in%C4%83u":MAILTO:centru.chisinau@gmail.com
END:VEVENT
BEGIN:VEVENT
DTSTART;TZID=Europe/Moscow:20260424T170000
DTEND;TZID=Europe/Moscow:20260424T170000
DTSTAMP:20260424T012907
CREATED:20260331T122258Z
LAST-MODIFIED:20260331T122304Z
UID:41946-1777050000-1777050000@e-tineret.md
SUMMARY:Клуб любителей дикции
DESCRIPTION:
URL:https://e-tineret.md/ru/event/%d0%ba%d0%bb%d1%83%d0%b1-%d0%bb%d1%8e%d0%b1%d0%b8%d1%82%d0%b5%d0%bb%d0%b5%d0%b9-%d0%b4%d0%b8%d0%ba%d1%86%d0%b8%d0%b8-4/
LOCATION:Centrul de Tineret Buiucani\, strada Ghidighici\, municipiul Chișinău\, Moldova\, Republic of
ATTACH;FMTTYPE=image/png:https://e-tineret.md/wp-content/uploads/2024/11/7.png
ORGANIZER;CN="Centrul de Tineret Buiucani":MAILTO:centru.buiucani@gmail.com
END:VEVENT
BEGIN:VEVENT
DTSTART;TZID=Europe/Moscow:20260424T170000
DTEND;TZID=Europe/Moscow:20260424T170000
DTSTAMP:20260424T012907
CREATED:20260331T174925Z
LAST-MODIFIED:20260331T174934Z
UID:42148-1777050000-1777050000@e-tineret.md
SUMMARY:Развитие личности
DESCRIPTION:
URL:https://e-tineret.md/ru/event/%d1%80%d0%b0%d0%b7%d0%b2%d0%b8%d1%82%d0%b8%d0%b5-%d0%bb%d0%b8%d1%87%d0%bd%d0%be%d1%81%d1%82%d0%b8-7/
LOCATION:Centrul de Tineret Botanica\, bulevardul Dacia 37/1\, municipiul Chișinău
ATTACH;FMTTYPE=image/png:https://e-tineret.md/wp-content/uploads/2024/11/4.png
ORGANIZER;CN="Centrul de Tineret Botanica":MAILTO:centru.botanica@gmail.com
END:VEVENT
BEGIN:VEVENT
DTSTART;TZID=Europe/Moscow:20260424T170000
DTEND;TZID=Europe/Moscow:20260424T170000
DTSTAMP:20260424T012907
CREATED:20260331T183432Z
LAST-MODIFIED:20260331T183436Z
UID:42358-1777050000-1777050000@e-tineret.md
SUMMARY:Интерактивные симуляции для развития личных навыков
DESCRIPTION:
URL:https://e-tineret.md/ru/event/%d0%b8%d0%bd%d1%82%d0%b5%d1%80%d0%b0%d0%ba%d1%82%d0%b8%d0%b2%d0%bd%d1%8b%d0%b5-%d1%81%d0%b8%d0%bc%d1%83%d0%bb%d1%8f%d1%86%d0%b8%d0%b8-%d0%b4%d0%bb%d1%8f-%d1%80%d0%b0%d0%b7%d0%b2%d0%b8%d1%82%d0%b8-4/
LOCATION:Centrul de Tineret Ciocana\, strada Petru Zadnipru 3/2\, municipiul Chișinău
ATTACH;FMTTYPE=image/png:https://e-tineret.md/wp-content/uploads/2024/11/5.png
ORGANIZER;CN="Centrul de Tineret Ciocana":MAILTO:centru.ciocana@gmail.com
END:VEVENT
BEGIN:VEVENT
DTSTART;TZID=Europe/Moscow:20260424T170000
DTEND;TZID=Europe/Moscow:20260424T170000
DTSTAMP:20260424T012907
CREATED:20260331T202724Z
LAST-MODIFIED:20260331T202730Z
UID:42736-1777050000-1777050000@e-tineret.md
SUMMARY:Волейбол
DESCRIPTION:
URL:https://e-tineret.md/ru/event/%d0%b2%d0%be%d0%bb%d0%b5%d0%b9%d0%b1%d0%be%d0%bb-4/
LOCATION:Centrul Municipal de Tineret Chișinău\, strada Mitropolit Varlaam 90\, municipiul Chișinău
ATTACH;FMTTYPE=image/jpeg:https://e-tineret.md/wp-content/uploads/2024/11/photo_2024-11-05_10-13-37.jpg
ORGANIZER;CN="Centrul Municipal de Tineret Chi%C8%99in%C4%83u":MAILTO:centru.chisinau@gmail.com
END:VEVENT
BEGIN:VEVENT
DTSTART;TZID=Europe/Moscow:20260424T170000
DTEND;TZID=Europe/Moscow:20260424T170000
DTSTAMP:20260424T012907
CREATED:20260331T203658Z
LAST-MODIFIED:20260331T203704Z
UID:42778-1777050000-1777050000@e-tineret.md
SUMMARY:Английский клуб
DESCRIPTION:
URL:https://e-tineret.md/ru/event/%d0%b0%d0%bd%d0%b3%d0%bb%d0%b8%d0%b9%d1%81%d0%ba%d0%b8%d0%b9-%d0%ba%d0%bb%d1%83%d0%b1-34/
LOCATION:Centrul Municipal de Tineret Chișinău\, strada Mitropolit Varlaam 90\, municipiul Chișinău
ATTACH;FMTTYPE=image/jpeg:https://e-tineret.md/wp-content/uploads/2024/11/photo_2024-11-05_10-13-37.jpg
ORGANIZER;CN="Centrul Municipal de Tineret Chi%C8%99in%C4%83u":MAILTO:centru.chisinau@gmail.com
END:VEVENT
END:VCALENDAR